BEGIN:VCALENDAR
VERSION:2.0
PRODID:-//Vosges escalade - ECPv6.1.3//NONSGML v1.0//EN
CALSCALE:GREGORIAN
METHOD:PUBLISH
X-WR-CALNAME:Vosges escalade
X-ORIGINAL-URL:https://vosges-escalade.com
X-WR-CALDESC:évènements pour Vosges escalade
REFRESH-INTERVAL;VALUE=DURATION:PT1H
X-Robots-Tag:noindex
X-PUBLISHED-TTL:PT1H
BEGIN:VTIMEZONE
TZID:Europe/Paris
BEGIN:DAYLIGHT
TZOFFSETFROM:+0100
TZOFFSETTO:+0200
TZNAME:CEST
DTSTART:20220327T010000
END:DAYLIGHT
BEGIN:STANDARD
TZOFFSETFROM:+0200
TZOFFSETTO:+0100
TZNAME:CET
DTSTART:20221030T010000
END:STANDARD
END:VTIMEZONE
BEGIN:VEVENT
DTSTART;TZID=Europe/Paris:20220415T090000
DTEND;TZID=Europe/Paris:20220424T170000
DTSTAMP:20260422T214200
CREATED:20200730T141450Z
LAST-MODIFIED:20220408T192747Z
UID:2789-1650013200-1650819600@vosges-escalade.com
SUMMARY:Une semaine en Corse
DESCRIPTION:alpinisme  + escalade  \nbivouac et refuges  \nrens sur  exterieur-grimpe@orange.fr
URL:https://vosges-escalade.com/event/une-semaine-en-corse/
LOCATION:Corse\, vizzavona\, France
END:VEVENT
END:VCALENDAR